BEGIN:VCALENDAR
VERSION:2.0
PRODID:-//wp-events-plugin.com//7.2.3.1//EN
BEGIN:VEVENT
UID:1024@steuerberater-fuer-oldenburg.de
DTSTART;VALUE=DATE:20231202
DTEND;VALUE=DATE:20231203
DTSTAMP:20230630T164557Z
URL:https://www.steuerberater-fuer-oldenburg.de/steuertermine/wohnungsbaup
 raemie-2021-letzter-antragstermin-faelligkeitstag/
SUMMARY:Wohnungsbauprämie 2021 - letzter Antragstermin - Fälligkeitstag
DESCRIPTION:
END:VEVENT
END:VCALENDAR