BEGIN:VCALENDAR
VERSION:2.0
PRODID:-//wp-events-plugin.com//7.2.3.1//EN
BEGIN:VEVENT
UID:884@steuerberater-fuer-oldenburg.de
DTSTART;VALUE=DATE:20221202
DTEND;VALUE=DATE:20221203
DTSTAMP:20220207T174340Z
URL:https://www.steuerberater-fuer-oldenburg.de/steuertermine/wohnungsbaup
 raemie-2020-letzter-antragstermin-faelligkeitstag/
SUMMARY:Wohnungsbauprämie 2020\, letzter Antragstermin - Fälligkeitstag
DESCRIPTION:
END:VEVENT
END:VCALENDAR