BEGIN:VCALENDAR
VERSION:2.0
PRODID:-//wp-events-plugin.com//7.2.3.1//EN
BEGIN:VEVENT
UID:828@steuerberater-fuer-oldenburg.de
DTSTART;VALUE=DATE:20221110
DTEND;VALUE=DATE:20221111
DTSTAMP:20220207T172400Z
URL:https://www.steuerberater-fuer-oldenburg.de/steuertermine/vergnuegungs
 teuer-faelligkeitstag-27/
SUMMARY:Vergnügungsteuer - Fälligkeitstag
DESCRIPTION:
END:VEVENT
END:VCALENDAR