BEGIN:VCALENDAR
VERSION:2.0
PRODID:-//wp-events-plugin.com//7.2.3.1//EN
BEGIN:VEVENT
UID:1091@steuerberater-fuer-oldenburg.de
DTSTART;VALUE=DATE:20240115
DTEND;VALUE=DATE:20240116
DTSTAMP:20240102T163346Z
URL:https://www.steuerberater-fuer-oldenburg.de/steuertermine/vergnuegungs
 teuer-ende-der-schonfrist-40/
SUMMARY:Vergnügungsteuer - Ende der Schonfrist
DESCRIPTION:
END:VEVENT
END:VCALENDAR