BEGIN:VCALENDAR
VERSION:2.0
PRODID:-//wp-events-plugin.com//7.2.3.1//EN
BEGIN:VEVENT
UID:1070@steuerberater-fuer-oldenburg.de
DTSTART;VALUE=DATE:20230814
DTEND;VALUE=DATE:20230815
DTSTAMP:20230630T165946Z
URL:https://www.steuerberater-fuer-oldenburg.de/steuertermine/vergnuegungs
 teuer-ende-der-schonfrist-35/
SUMMARY:Vergnügungsteuer - Ende der Schonfrist
DESCRIPTION:
END:VEVENT
END:VCALENDAR