BEGIN:VCALENDAR
VERSION:2.0
PRODID:-//wp-events-plugin.com//7.2.3.1//EN
BEGIN:VEVENT
UID:137@steuerberater-fuer-oldenburg.de
DTSTART;VALUE=DATE:20160825
DTEND;VALUE=DATE:20160826
DTSTAMP:20160612T163508Z
URL:https://www.steuerberater-fuer-oldenburg.de/steuertermine/umsatzsteuer
 -zusammenfassende-meldung-zm-10/
SUMMARY:Umsatzsteuer Zusammenfassende Meldung (ZM)
DESCRIPTION:
END:VEVENT
END:VCALENDAR