BEGIN:VCALENDAR
VERSION:2.0
PRODID:-//wp-events-plugin.com//7.2.3.1//EN
BEGIN:VEVENT
UID:914@steuerberater-fuer-oldenburg.de
DTSTART;VALUE=DATE:20230210
DTEND;VALUE=DATE:20230211
DTSTAMP:20230108T160931Z
URL:https://www.steuerberater-fuer-oldenburg.de/steuertermine/umsatzsteuer
 -vorauszahlung-faelligkeitstag-29/
SUMMARY:Umsatzsteuer Vorauszahlung - Fälligkeitstag
DESCRIPTION:
END:VEVENT
END:VCALENDAR