BEGIN:VCALENDAR
VERSION:2.0
PRODID:-//wp-events-plugin.com//7.2.3.1//EN
BEGIN:VEVENT
UID:1182@steuerberater-fuer-oldenburg.de
DTSTART;VALUE=DATE:20240826
DTEND;VALUE=DATE:20240827
DTSTAMP:20240130T183345Z
URL:https://www.steuerberater-fuer-oldenburg.de/steuertermine/stromsteuer-
 monatliche-faelligkeit-faelligkeitstag-50/
SUMMARY:Stromsteuer - monatliche Fälligkeit - Fälligkeitstag
DESCRIPTION:
END:VEVENT
END:VCALENDAR