BEGIN:VCALENDAR
VERSION:2.0
PRODID:-//wp-events-plugin.com//7.2.3.1//EN
BEGIN:VEVENT
UID:1179@steuerberater-fuer-oldenburg.de
DTSTART;VALUE=DATE:20240527
DTEND;VALUE=DATE:20240528
DTSTAMP:20240130T183219Z
URL:https://www.steuerberater-fuer-oldenburg.de/steuertermine/stromsteuer-
 monatliche-faelligkeit-faelligkeitstag-47/
SUMMARY:Stromsteuer - monatliche Fälligkeit - Fälligkeitstag
DESCRIPTION:
END:VEVENT
END:VCALENDAR