BEGIN:VCALENDAR
VERSION:2.0
PRODID:-//wp-events-plugin.com//7.2.3.1//EN
BEGIN:VEVENT
UID:1036@steuerberater-fuer-oldenburg.de
DTSTART;VALUE=DATE:20231025
DTEND;VALUE=DATE:20231026
DTSTAMP:20230630T165016Z
URL:https://www.steuerberater-fuer-oldenburg.de/steuertermine/stromsteuer-
 monatliche-faelligkeit-faelligkeitstag-40/
SUMMARY:Stromsteuer - monatliche Fälligkeit - Fälligkeitstag
DESCRIPTION:
END:VEVENT
END:VCALENDAR