BEGIN:VCALENDAR
VERSION:2.0
PRODID:-//wp-events-plugin.com//7.2.3.1//EN
BEGIN:VEVENT
UID:911@steuerberater-fuer-oldenburg.de
DTSTART;VALUE=DATE:20230215
DTEND;VALUE=DATE:20230216
DTSTAMP:20230108T160803Z
URL:https://www.steuerberater-fuer-oldenburg.de/steuertermine/stromsteuer-
 monatliche-anmeldung-faelligkeitstag-28/
SUMMARY:Stromsteuer\, monatliche Anmeldung - Fälligkeitstag
DESCRIPTION:
END:VEVENT
END:VCALENDAR