BEGIN:VCALENDAR
VERSION:2.0
PRODID:-//wp-events-plugin.com//7.2.3.1//EN
BEGIN:VEVENT
UID:65@steuerberater-fuer-oldenburg.de
DTSTART;VALUE=DATE:20160415
DTEND;VALUE=DATE:20160416
DTSTAMP:20160313T115905Z
URL:https://www.steuerberater-fuer-oldenburg.de/steuertermine/stromsteuer-
 monatliche-anmeldung-5/
SUMMARY:Stromsteuer monatliche Anmeldung
DESCRIPTION:
END:VEVENT
END:VCALENDAR