BEGIN:VCALENDAR
VERSION:2.0
PRODID:-//wp-events-plugin.com//7.2.3.1//EN
BEGIN:VEVENT
UID:1025@steuerberater-fuer-oldenburg.de
DTSTART;VALUE=DATE:20231002
DTEND;VALUE=DATE:20231003
DTSTAMP:20230630T164631Z
URL:https://www.steuerberater-fuer-oldenburg.de/steuertermine/steuererklae
 rungen-2022-allgemeiner-abgabetermin-faelligkeitstag/
SUMMARY:Steuererklärungen 2022 - allgemeiner Abgabetermin - Fälligkeitsta
 g
DESCRIPTION:
END:VEVENT
END:VCALENDAR