BEGIN:VCALENDAR
VERSION:2.0
PRODID:-//wp-events-plugin.com//7.2.3.1//EN
BEGIN:VEVENT
UID:1161@steuerberater-fuer-oldenburg.de
DTSTART;VALUE=DATE:20240731
DTEND;VALUE=DATE:20240801
DTSTAMP:20240130T182128Z
URL:https://www.steuerberater-fuer-oldenburg.de/steuertermine/minijob-verh
 aeltnisse-im-privathaushalt-faelligkeitstag-6/
SUMMARY:Minijob-Verhältnisse im Privathaushalt - Fälligkeitstag
DESCRIPTION:
END:VEVENT
END:VCALENDAR