BEGIN:VCALENDAR
VERSION:2.0
PRODID:-//wp-events-plugin.com//7.2.3.1//EN
BEGIN:VEVENT
UID:1132@steuerberater-fuer-oldenburg.de
DTSTART;VALUE=DATE:20240913
DTEND;VALUE=DATE:20240914
DTSTAMP:20240130T165931Z
URL:https://www.steuerberater-fuer-oldenburg.de/steuertermine/koerperschaf
 tsteuer-solidaritaetszuschlag-ende-der-schonfrist-16/
SUMMARY:Körperschaftsteuer\, Solidaritätszuschlag - Ende der Schonfrist
DESCRIPTION:
END:VEVENT
END:VCALENDAR