BEGIN:VCALENDAR
VERSION:2.0
PRODID:-//wp-events-plugin.com//7.2.3.1//EN
BEGIN:VEVENT
UID:1131@steuerberater-fuer-oldenburg.de
DTSTART;VALUE=DATE:20240613
DTEND;VALUE=DATE:20240614
DTSTAMP:20240130T165902Z
URL:https://www.steuerberater-fuer-oldenburg.de/steuertermine/koerperschaf
 tsteuer-solidaritaetszuschlag-ende-der-schonfrist-15/
SUMMARY:Körperschaftsteuer\, Solidaritätszuschlag - Ende der Schonfrist
DESCRIPTION:
END:VEVENT
END:VCALENDAR