BEGIN:VCALENDAR
VERSION:2.0
PRODID:-//wp-events-plugin.com//7.2.3.1//EN
BEGIN:VEVENT
UID:170@steuerberater-fuer-oldenburg.de
DTSTART;VALUE=DATE:20170310
DTEND;VALUE=DATE:20170311
DTSTAMP:20170213T170026Z
URL:https://www.steuerberater-fuer-oldenburg.de/steuertermine/koerperschaf
 tssteuer-solidaritaetszuschlag/
SUMMARY:Körperschaftssteuer\, Solidaritätszuschlag
DESCRIPTION:
END:VEVENT
END:VCALENDAR