BEGIN:VCALENDAR
VERSION:2.0
PRODID:-//wp-events-plugin.com//7.2.3.1//EN
BEGIN:VEVENT
UID:978@steuerberater-fuer-oldenburg.de
DTSTART;VALUE=DATE:20230430
DTEND;VALUE=DATE:20230501
DTSTAMP:20230108T163844Z
URL:https://www.steuerberater-fuer-oldenburg.de/steuertermine/import-one-s
 top-shop-faelligkeitstag-14/
SUMMARY:Import-One-Stop Shop - Fälligkeitstag
DESCRIPTION:
END:VEVENT
END:VCALENDAR