BEGIN:VCALENDAR
VERSION:2.0
PRODID:-//wp-events-plugin.com//7.2.3.1//EN
BEGIN:VEVENT
UID:905@steuerberater-fuer-oldenburg.de
DTSTART;VALUE=DATE:20230220
DTEND;VALUE=DATE:20230221
DTSTAMP:20230108T160405Z
URL:https://www.steuerberater-fuer-oldenburg.de/steuertermine/grundsteuer-
 vierteljaehrliche-faelligkeit-ende-der-schonfrist-10/
SUMMARY:Grundsteuer\, vierteljährliche Fälligkeit - Ende der Schonfrist
DESCRIPTION:
END:VEVENT
END:VCALENDAR