BEGIN:VCALENDAR
VERSION:2.0
PRODID:-//wp-events-plugin.com//7.2.3.1//EN
BEGIN:VEVENT
UID:902@steuerberater-fuer-oldenburg.de
DTSTART;VALUE=DATE:20230215
DTEND;VALUE=DATE:20230216
DTSTAMP:20230108T160239Z
URL:https://www.steuerberater-fuer-oldenburg.de/steuertermine/gewerbesteue
 r-faelligkeitstag-9/
SUMMARY:Gewerbesteuer - Fälligkeitstag
DESCRIPTION:
END:VEVENT
END:VCALENDAR