BEGIN:VCALENDAR
VERSION:2.0
PRODID:-//wp-events-plugin.com//7.2.3.1//EN
BEGIN:VEVENT
UID:990@steuerberater-fuer-oldenburg.de
DTSTART;VALUE=DATE:20231115
DTEND;VALUE=DATE:20231116
DTSTAMP:20230630T163247Z
URL:https://www.steuerberater-fuer-oldenburg.de/steuertermine/gewerbesteue
 r-faelligkeitstag-12/
SUMMARY:Gewerbesteuer - Fälligkeitstag
DESCRIPTION:
END:VEVENT
END:VCALENDAR