BEGIN:VCALENDAR
VERSION:2.0
PRODID:-//wp-events-plugin.com//7.2.3.1//EN
BEGIN:VEVENT
UID:1264@steuerberater-fuer-oldenburg.de
DTSTART;VALUE=DATE:20250220
DTEND;VALUE=DATE:20250221
DTSTAMP:20250212T150629Z
URL:https://www.steuerberater-fuer-oldenburg.de/steuertermine/gewerbesteue
 r-ende-der-schonfrist-20/
SUMMARY:Gewerbesteuer - Ende der Schonfrist
DESCRIPTION:
END:VEVENT
END:VCALENDAR