BEGIN:VCALENDAR
VERSION:2.0
PRODID:-//wp-events-plugin.com//7.2.3.1//EN
BEGIN:VEVENT
UID:1113@steuerberater-fuer-oldenburg.de
DTSTART;VALUE=DATE:20240819
DTEND;VALUE=DATE:20240820
DTSTAMP:20240130T153424Z
URL:https://www.steuerberater-fuer-oldenburg.de/steuertermine/gewerbesteue
 r-ende-der-schonfrist-18/
SUMMARY:Gewerbesteuer - Ende der Schonfrist
DESCRIPTION:
END:VEVENT
END:VCALENDAR