BEGIN:VCALENDAR
VERSION:2.0
PRODID:-//wp-events-plugin.com//7.2.3.1//EN
BEGIN:VEVENT
UID:82@steuerberater-fuer-oldenburg.de
DTSTART;VALUE=DATE:20160610
DTEND;VALUE=DATE:20160611
DTSTAMP:20160313T121404Z
URL:https://www.steuerberater-fuer-oldenburg.de/steuertermine/getraenkeste
 uer-7/
SUMMARY:Getränkesteuer
DESCRIPTION:
END:VEVENT
END:VCALENDAR