BEGIN:VCALENDAR
VERSION:2.0
PRODID:-//wp-events-plugin.com//7.2.3.1//EN
BEGIN:VEVENT
UID:984@steuerberater-fuer-oldenburg.de
DTSTART;VALUE=DATE:20231010
DTEND;VALUE=DATE:20231011
DTSTAMP:20230630T162948Z
URL:https://www.steuerberater-fuer-oldenburg.de/steuertermine/aufsichtsrat
 -und-abzugsteuer-bei-beschraenkt-steuerpflichtigen-faelligkeitstag-7/
SUMMARY:Aufsichtsrat- und Abzugsteuer bei beschränkt Steuerpflichtigen - F
 älligkeitstag
DESCRIPTION:
END:VEVENT
END:VCALENDAR